BEGIN:VCALENDAR
VERSION:2.0
PRODID:-//Huddersfield Table Tennis Centre - ECPv6.15.16//NONSGML v1.0//EN
CALSCALE:GREGORIAN
METHOD:PUBLISH
X-WR-CALNAME:Huddersfield Table Tennis Centre
X-ORIGINAL-URL:https://huddersfieldttc.co.uk
X-WR-CALDESC:Events for Huddersfield Table Tennis Centre
REFRESH-INTERVAL;VALUE=DURATION:PT1H
X-Robots-Tag:noindex
X-PUBLISHED-TTL:PT1H
BEGIN:VTIMEZONE
TZID:Europe/London
BEGIN:DAYLIGHT
TZOFFSETFROM:+0000
TZOFFSETTO:+0100
TZNAME:BST
DTSTART:20230326T010000
END:DAYLIGHT
BEGIN:STANDARD
TZOFFSETFROM:+0100
TZOFFSETTO:+0000
TZNAME:GMT
DTSTART:20231029T010000
END:STANDARD
BEGIN:DAYLIGHT
TZOFFSETFROM:+0000
TZOFFSETTO:+0100
TZNAME:BST
DTSTART:20240331T010000
END:DAYLIGHT
BEGIN:STANDARD
TZOFFSETFROM:+0100
TZOFFSETTO:+0000
TZNAME:GMT
DTSTART:20241027T010000
END:STANDARD
BEGIN:DAYLIGHT
TZOFFSETFROM:+0000
TZOFFSETTO:+0100
TZNAME:BST
DTSTART:20250330T010000
END:DAYLIGHT
BEGIN:STANDARD
TZOFFSETFROM:+0100
TZOFFSETTO:+0000
TZNAME:GMT
DTSTART:20251026T010000
END:STANDARD
BEGIN:DAYLIGHT
TZOFFSETFROM:+0000
TZOFFSETTO:+0100
TZNAME:BST
DTSTART:20260329T010000
END:DAYLIGHT
BEGIN:STANDARD
TZOFFSETFROM:+0100
TZOFFSETTO:+0000
TZNAME:GMT
DTSTART:20261025T010000
END:STANDARD
END:VTIMEZONE
BEGIN:VEVENT
DTSTART;TZID=Europe/London:20250927T090000
DTEND;TZID=Europe/London:20250927T170000
DTSTAMP:20260420T191618
CREATED:20250812T145314Z
LAST-MODIFIED:20250812T145314Z
UID:27818-1758963600-1758992400@huddersfieldttc.co.uk
SUMMARY:The Huddersfield Open 2* Senior on the 27th of September is announced
DESCRIPTION:PROVISIONAL PLAYING SCHEDULE\nSenior: 48 max entries \nPlayers will be ranked based on the latest computer ranking list\, no restriction on gender (separate gender groups will run if there are enough entries). Groups of 6 with a round robin per group followed by a knockout event. Groups will be mixed. \nTo enter\, please complete the registration form before the closing date. \nThe closing date is the 20th of September 2025 \nComplete the entry form
URL:https://huddersfieldttc.co.uk/event/the-huddersfield-open-senior-on-september-27-is-announced/
LOCATION:Huddersfield Table Tennis Centre\, 4th Floor of JL Brierley's Turnbridge Mills\, Quay Street\, Huddersfield\, Huddersfield\, west Yorkshire\, HD1 6QT\, United Kingdom
CATEGORIES:2 STAR,Senior,Tournament
ATTACH;FMTTYPE=image/jpeg:https://huddersfieldttc.co.uk/wp-content/uploads/2023/12/PXL_20231214_202620234-scaled.jpg
ORGANIZER;CN="Frederic Le Doeuff":MAILTO:huddersfieldttcompetitions@gmail.com
END:VEVENT
BEGIN:VEVENT
DTSTART;TZID=Europe/London:20250913T090000
DTEND;TZID=Europe/London:20250913T170000
DTSTAMP:20260420T191618
CREATED:20250812T145846Z
LAST-MODIFIED:20250812T145912Z
UID:27820-1757754000-1757782800@huddersfieldttc.co.uk
SUMMARY:The Huddersfield Open 2* Senior on the 27th of September is announced
DESCRIPTION:PROVISIONAL PLAYING SCHEDULE\nSenior: 48 max entries \nPlayers will be ranked based on the latest computer ranking list\, no restriction on gender (separate gender groups will run if there are enough entries). Groups of 6 with a round robin per group followed by a knockout event. Groups will be mixed. \nTo enter\, please complete the registration form before the closing date. \nThe closing date is the 6th of September 2025 \nComplete the entry form
URL:https://huddersfieldttc.co.uk/event/the-huddersfield-open-veteran-on-the-13th-of-september-is-announced/
LOCATION:Huddersfield Table Tennis Centre\, 4th Floor of JL Brierley's Turnbridge Mills\, Quay Street\, Huddersfield\, Huddersfield\, west Yorkshire\, HD1 6QT\, United Kingdom
CATEGORIES:2 STAR,Senior,Tournament
ATTACH;FMTTYPE=image/jpeg:https://huddersfieldttc.co.uk/wp-content/uploads/2023/12/PXL_20231214_202620234-scaled.jpg
ORGANIZER;CN="Frederic Le Doeuff":MAILTO:huddersfieldttcompetitions@gmail.com
END:VEVENT
BEGIN:VEVENT
DTSTART;TZID=Europe/London:20250830T090000
DTEND;TZID=Europe/London:20250830T170000
DTSTAMP:20260420T191618
CREATED:20250812T150536Z
LAST-MODIFIED:20250812T150616Z
UID:27823-1756544400-1756573200@huddersfieldttc.co.uk
SUMMARY:The Huddersfield Open 2* U11/U13/U15/Junior in August is announced
DESCRIPTION:PROVISIONAL PLAYING SCHEDULE\nUnder 11: 16 entries max\nUnder 13: 16 entries max\nCadets: 16 entries max\nJuniors: 16 entries max \nPlayers will be ranked based on the latest computer ranking list\, no restriction on gender (separate gender groups will run if there are enough entries). Groups of 4 followed by knockout event. \nTo enter\, please  complete the registration form. \nThe closing date is the 33rd of August 2025
URL:https://huddersfieldttc.co.uk/event/the-huddersfield-open-2-junior-on-30-august-is-announced/
LOCATION:Huddersfield Table Tennis Centre\, 4th Floor of JL Brierley's Turnbridge Mills\, Quay Street\, Huddersfield\, Huddersfield\, west Yorkshire\, HD1 6QT\, United Kingdom
CATEGORIES:2 STAR,Cadet,Junior,Tournament
ATTACH;FMTTYPE=image/jpeg:https://huddersfieldttc.co.uk/wp-content/uploads/2023/12/PXL_20231214_202620234-scaled.jpg
ORGANIZER;CN="Frederic Le Doeuff":MAILTO:huddersfieldttcompetitions@gmail.com
END:VEVENT
BEGIN:VEVENT
DTSTART;VALUE=DATE:20250405
DTEND;VALUE=DATE:20250406
DTSTAMP:20260420T191618
CREATED:20250517T230616Z
LAST-MODIFIED:20250517T231617Z
UID:27768-1743811200-1743897599@huddersfieldttc.co.uk
SUMMARY:The Huddersfield Open 1* Senior results
DESCRIPTION:First and foremost\, we would like to thank everyone for participating in today’s table tennis competition. \nCongratulations to all the winners and a big round of applause to everyone who gave their best effort on the tables. \nIf you have any feedback or suggestions on how we can improve future competitions\, please do not hesitate to reach out. \nHere are the results: \nGroup 1 \nGroup 2 \nGroup 3 \nGroup 4 \n 
URL:https://huddersfieldttc.co.uk/event/the-huddersfield-open-1-senior-in-april-2025/
LOCATION:Huddersfield Table Tennis Centre\, 4th Floor of JL Brierley's Turnbridge Mills\, Quay Street\, Huddersfield\, Huddersfield\, west Yorkshire\, HD1 6QT\, United Kingdom
CATEGORIES:1 STAR,Senior,Tournament
ATTACH;FMTTYPE=image/jpeg:https://huddersfieldttc.co.uk/wp-content/uploads/2023/12/PXL_20231214_202620234-scaled.jpg
ORGANIZER;CN="Frederic Le Doeuff":MAILTO:huddersfieldttcompetitions@gmail.com
END:VEVENT
BEGIN:VEVENT
DTSTART;TZID=Europe/London:20250301T090000
DTEND;TZID=Europe/London:20250301T170000
DTSTAMP:20260420T191618
CREATED:20241213T000014Z
LAST-MODIFIED:20250517T225147Z
UID:27689-1740819600-1740848400@huddersfieldttc.co.uk
SUMMARY:The Huddersfield Open 1* Veteran results
DESCRIPTION:First and foremost\, we would like to thank everyone for participating in today’s table tennis competition. \nCongratulations to all the winners and a big round of applause to everyone who gave their best effort on the tables. \nIf you have any feedback or suggestions on how we can improve future competitions\, please do not hesitate to reach out.
URL:https://huddersfieldttc.co.uk/event/the-huddersfield-open-1-veteran-in-march-is-announced/
LOCATION:Huddersfield Table Tennis Centre\, 4th Floor of JL Brierley's Turnbridge Mills\, Quay Street\, Huddersfield\, Huddersfield\, west Yorkshire\, HD1 6QT\, United Kingdom
CATEGORIES:2 STAR,Senior,Tournament
ATTACH;FMTTYPE=image/jpeg:https://huddersfieldttc.co.uk/wp-content/uploads/2023/12/PXL_20231214_202620234-scaled.jpg
ORGANIZER;CN="Frederic Le Doeuff":MAILTO:huddersfieldttcompetitions@gmail.com
END:VEVENT
BEGIN:VEVENT
DTSTART;TZID=Europe/London:20250201T090000
DTEND;TZID=Europe/London:20250201T170000
DTSTAMP:20260420T191618
CREATED:20241212T233327Z
LAST-MODIFIED:20250213T180309Z
UID:27686-1738400400-1738429200@huddersfieldttc.co.uk
SUMMARY:The Huddersfield Open 1* Senior results
DESCRIPTION:First and foremost\, we would like to thank everyone for participating in today’s table tennis competition. \nCongratulations to all the winners and a big round of applause to everyone who gave their best effort on the tables. \nIf you have any feedback or suggestions on how we can improve future competitions\, please do not hesitate to reach out. \nHere are the results: \nGroup 1 \nGroup 2 \nGroup 3 \nGroup 4
URL:https://huddersfieldttc.co.uk/event/the-february-2025-huddersfield-open-1-star-results/
LOCATION:Huddersfield Table Tennis Centre\, 4th Floor of JL Brierley's Turnbridge Mills\, Quay Street\, Huddersfield\, Huddersfield\, west Yorkshire\, HD1 6QT\, United Kingdom
CATEGORIES:2 STAR,Senior,Tournament
ATTACH;FMTTYPE=image/jpeg:https://huddersfieldttc.co.uk/wp-content/uploads/2023/12/PXL_20231214_202620234-scaled.jpg
ORGANIZER;CN="Frederic Le Doeuff":MAILTO:huddersfieldttcompetitions@gmail.com
END:VEVENT
BEGIN:VEVENT
DTSTART;TZID=Europe/London:20241214T090000
DTEND;TZID=Europe/London:20241214T170000
DTSTAMP:20260420T191618
CREATED:20241217T194838Z
LAST-MODIFIED:20241217T194838Z
UID:27699-1734166800-1734195600@huddersfieldttc.co.uk
SUMMARY:The December 2024 Huddersfield Open 2* results
DESCRIPTION:First and foremost\, we would like to thank everyone for participating in today’s table tennis competition. \nCongratulations to all the winners and a big round of applause to everyone who gave their best effort on the tables. \nIf you have any feedback or suggestions on how we can improve future competitions\, please do not hesitate to reach out. \nHere are the results: \nUnder 11 mixed \nUnder 13 boys \nCadet Mixed \nJunior boys \nJunior girls \nView the pictures of our winners
URL:https://huddersfieldttc.co.uk/event/the-december-huddersfield-open-2-results/
LOCATION:Huddersfield Table Tennis Centre\, 4th Floor of JL Brierley's Turnbridge Mills\, Quay Street\, Huddersfield\, Huddersfield\, west Yorkshire\, HD1 6QT\, United Kingdom
CATEGORIES:2 STAR,Cadet,Junior,Tournament,Under 11,Under 13
ATTACH;FMTTYPE=image/jpeg:https://huddersfieldttc.co.uk/wp-content/uploads/2023/12/PXL_20231214_202620234-scaled.jpg
ORGANIZER;CN="Frederic Le Doeuff":MAILTO:huddersfieldttcompetitions@gmail.com
END:VEVENT
BEGIN:VEVENT
DTSTART;TZID=Europe/London:20241102T090000
DTEND;TZID=Europe/London:20241102T170000
DTSTAMP:20260420T191618
CREATED:20241212T231222Z
LAST-MODIFIED:20241212T232431Z
UID:27682-1730538000-1730566800@huddersfieldttc.co.uk
SUMMARY:The October Huddersfield Open 1* Veteran results
DESCRIPTION:First and foremost\, we would like to thank everyone for participating in today’s table tennis competition. \nCongratulations to all the winners and a big round of applause to everyone who gave their best effort on the tables. \nIf you have any feedback or suggestions on how we can improve future competitions\, please do not hesitate to reach out. \nHere are the results: \nGroup 1 results \nGroup 2 results \nView the pictures of our winners
URL:https://huddersfieldttc.co.uk/event/the-november-huddersfield-open-1-senior-results/
LOCATION:Huddersfield Table Tennis Centre\, 4th Floor of JL Brierley's Turnbridge Mills\, Quay Street\, Huddersfield\, Huddersfield\, west Yorkshire\, HD1 6QT\, United Kingdom
CATEGORIES:Tournament,Veteran
ATTACH;FMTTYPE=image/jpeg:https://huddersfieldttc.co.uk/wp-content/uploads/2023/12/PXL_20231214_202620234-scaled.jpg
ORGANIZER;CN="Frederic Le Doeuff":MAILTO:huddersfieldttcompetitions@gmail.com
END:VEVENT
BEGIN:VEVENT
DTSTART;TZID=Europe/London:20241005T090000
DTEND;TZID=Europe/London:20241005T170000
DTSTAMP:20260420T191618
CREATED:20241109T215545Z
LAST-MODIFIED:20241109T215545Z
UID:27641-1728118800-1728147600@huddersfieldttc.co.uk
SUMMARY:The October Huddersfield Open 1* Senior results
DESCRIPTION:First and foremost\, we would like to thank everyone for participating in today’s table tennis competition. \nCongratulations to all the winners and a big round of applause to everyone who gave their best effort on the tables. \nIf you have any feedback or suggestions on how we can improve future competitions\, please do not hesitate to reach out. \nHere are the results: \nGroup 1 results \nGroup 2 results \nGroup 3 results \nGroup 4 results \nView the pictures of our winners
URL:https://huddersfieldttc.co.uk/event/the-october-huddersfield-open-1-senior-results/
LOCATION:Huddersfield Table Tennis Centre\, 4th Floor of JL Brierley's Turnbridge Mills\, Quay Street\, Huddersfield\, Huddersfield\, west Yorkshire\, HD1 6QT\, United Kingdom
CATEGORIES:Tournament,Veteran
ATTACH;FMTTYPE=image/jpeg:https://huddersfieldttc.co.uk/wp-content/uploads/2023/12/PXL_20231214_202620234-scaled.jpg
ORGANIZER;CN="Frederic Le Doeuff":MAILTO:huddersfieldttcompetitions@gmail.com
END:VEVENT
BEGIN:VEVENT
DTSTART;TZID=Europe/London:20240907T090000
DTEND;TZID=Europe/London:20240907T170000
DTSTAMP:20260420T191618
CREATED:20241117T213655Z
LAST-MODIFIED:20241117T214958Z
UID:27649-1725699600-1725728400@huddersfieldttc.co.uk
SUMMARY:The September Huddersfield Open 2* Junior results
DESCRIPTION:First and foremost\, we would like to thank everyone for participating in today’s table tennis competition. \nCongratulations to all the winners and a big round of applause to everyone who gave their best effort on the tables. \nIf you have any feedback or suggestions on how we can improve future competitions\, please do not hesitate to reach out. \nHere are the results: \nCadet Results \nJunior Results \nUnder-11 Results \nUnder-13 Results \nView the pictures of our winners: Part 1\, Part 2
URL:https://huddersfieldttc.co.uk/event/the-september-huddersfield-open-2-junior-results/
LOCATION:Huddersfield Table Tennis Centre\, 4th Floor of JL Brierley's Turnbridge Mills\, Quay Street\, Huddersfield\, Huddersfield\, west Yorkshire\, HD1 6QT\, United Kingdom
CATEGORIES:2 STAR,Cadet,Junior,Tournament,Under 11,Under 13
ATTACH;FMTTYPE=image/jpeg:https://huddersfieldttc.co.uk/wp-content/uploads/2023/12/PXL_20231214_202620234-scaled.jpg
ORGANIZER;CN="Frederic Le Doeuff":MAILTO:huddersfieldttcompetitions@gmail.com
END:VEVENT
BEGIN:VEVENT
DTSTART;TZID=Europe/London:20240706T090000
DTEND;TZID=Europe/London:20240706T170000
DTSTAMP:20260420T191618
CREATED:20240311T124554Z
LAST-MODIFIED:20241020T164709Z
UID:27482-1720256400-1720285200@huddersfieldttc.co.uk
SUMMARY:The Huddersfield July Open 2* Cadet/Junior
DESCRIPTION:We are happy to announce the successful conclusion of this table tennis event! \nA special thank you goes out to our players\, who showed both competitive spirit and camaraderie. Congratulations to our winners\, but equally important\, a round of applause for everyone who gave their best effort on the table! \nLooking forward to seeing you all again at our next event. Until then\, keep practicing\, and stay tuned for more thrilling table tennis action! \nThank you all once again!
URL:https://huddersfieldttc.co.uk/event/the-july-huddersfield-open-2-cadet-junior/
LOCATION:Huddersfield Table Tennis Centre\, 4th Floor of JL Brierley's Turnbridge Mills\, Quay Street\, Huddersfield\, Huddersfield\, west Yorkshire\, HD1 6QT\, United Kingdom
CATEGORIES:2 STAR,Cadet,Junior,Tournament
ATTACH;FMTTYPE=image/jpeg:https://huddersfieldttc.co.uk/wp-content/uploads/2023/12/PXL_20231214_202620234-scaled.jpg
ORGANIZER;CN="Frederic Le Doeuff":MAILTO:huddersfieldttcompetitions@gmail.com
END:VEVENT
BEGIN:VEVENT
DTSTART;TZID=Europe/London:20240615T090000
DTEND;TZID=Europe/London:20240615T170000
DTSTAMP:20260420T191618
CREATED:20240615T190509Z
LAST-MODIFIED:20241117T232749Z
UID:27563-1718442000-1718470800@huddersfieldttc.co.uk
SUMMARY:The June Huddersfield Open 1* Senior results
DESCRIPTION:First and foremost\, we would like to thank everyone for participating in today’s table tennis competition. \nCongratulations to all the winners and a big round of applause to everyone who gave their best effort on the tables. \nIf you have any feedback or suggestions on how we can improve future competitions\, please do not hesitate to reach out. \nHere are the results: \nGroup 1 Results \nGroup 2 Results \nGroup 3 Results \nGroup 4 Results
URL:https://huddersfieldttc.co.uk/event/the-june-huddersfield-open-1-senior-results/
LOCATION:Huddersfield Table Tennis Centre\, 4th Floor of JL Brierley's Turnbridge Mills\, Quay Street\, Huddersfield\, Huddersfield\, west Yorkshire\, HD1 6QT\, United Kingdom
CATEGORIES:1 STAR,Senior,Tournament
ATTACH;FMTTYPE=image/jpeg:https://huddersfieldttc.co.uk/wp-content/uploads/2023/12/PXL_20231214_202620234-scaled.jpg
ORGANIZER;CN="Frederic Le Doeuff":MAILTO:huddersfieldttcompetitions@gmail.com
END:VEVENT
BEGIN:VEVENT
DTSTART;TZID=Europe/London:20240511T090000
DTEND;TZID=Europe/London:20240511T170000
DTSTAMP:20260420T191618
CREATED:20240311T123901Z
LAST-MODIFIED:20240311T123901Z
UID:27480-1715418000-1715446800@huddersfieldttc.co.uk
SUMMARY:The Huddersfield Open 2* Cadet/Junior in May is announced
DESCRIPTION:PROVISIONAL PLAYING SCHEDULE\nCadets: 16 max entries\nJuniors: 16 max entries \nPlayers will be ranked based on the latest computer ranking list\, no restriction on gender (separate gender groups will run if there are enough entries). Groups of 8 with a round robin per group. Groups will be mixed. \nTo enter\, please download & complete the registration form. The entry pages must be emailed to huddersfieldttcompetitions@gmail.com before the closing date. \nThe closing date is the 3rd of May 2024 \nView the Table Tennis England website to download the entry form.
URL:https://huddersfieldttc.co.uk/event/the-huddersfield-open-2-cadet-junior-in-january-is-announced/
LOCATION:Huddersfield Table Tennis Centre\, 4th Floor of JL Brierley's Turnbridge Mills\, Quay Street\, Huddersfield\, Huddersfield\, west Yorkshire\, HD1 6QT\, United Kingdom
CATEGORIES:2 STAR,Cadet,Junior,Tournament
ATTACH;FMTTYPE=image/jpeg:https://huddersfieldttc.co.uk/wp-content/uploads/2023/12/PXL_20231214_202620234-scaled.jpg
ORGANIZER;CN="Frederic Le Doeuff":MAILTO:huddersfieldttcompetitions@gmail.com
END:VEVENT
BEGIN:VEVENT
DTSTART;TZID=Europe/London:20240427T090000
DTEND;TZID=Europe/London:20240427T170000
DTSTAMP:20260420T191618
CREATED:20240311T140937Z
LAST-MODIFIED:20240410T184321Z
UID:27484-1714208400-1714237200@huddersfieldttc.co.uk
SUMMARY:The Huddersfield Closed Table Tennis Championships is announced
DESCRIPTION:To enter\, please download & complete the registration form. The entry pages must be emailed to httlscores@gmail.com  before the 27st of April 2024. \nView the Huddersfield Table Tennis League website to download the entry form.
URL:https://huddersfieldttc.co.uk/event/the-huddersfield-closed-table-tennis-championship-is-announced/
LOCATION:Huddersfield Table Tennis Centre\, 4th Floor of JL Brierley's Turnbridge Mills\, Quay Street\, Huddersfield\, Huddersfield\, west Yorkshire\, HD1 6QT\, United Kingdom
CATEGORIES:Tournament
ATTACH;FMTTYPE=image/jpeg:https://huddersfieldttc.co.uk/wp-content/uploads/2023/12/PXL_20231214_202620234-scaled.jpg
ORGANIZER;CN="Philip Scholfield":MAILTO:scuffer92@tiscali.co.uk
END:VEVENT
BEGIN:VEVENT
DTSTART;TZID=Europe/London:20240413T090000
DTEND;TZID=Europe/London:20240413T170000
DTSTAMP:20260420T191618
CREATED:20240109T154507Z
LAST-MODIFIED:20241117T230056Z
UID:26956-1712998800-1713027600@huddersfieldttc.co.uk
SUMMARY:The April Huddersfield Open 2* Junior results
DESCRIPTION:First and foremost\, we would like to thank everyone for participating in today’s table tennis competition. \nCongratulations to all the winners and a big round of applause to everyone who gave their best effort on the tables. \nIf you have any feedback or suggestions on how we can improve future competitions\, please do not hesitate to reach out. \nHere are the results: \nUnder 11 boys: Elite Results \nUnder 11 girls: Elite Results \nUnder 13 boys: Elite Results\, Plate Results \nUnder 13 girls: Elite Results \nCadet boys: Elite Results\, Plate Results \nJunior boys: Elite Results\, Plate Results \nView the pictures of our winners: Part 1\, Part 2 \, Part 3
URL:https://huddersfieldttc.co.uk/event/huddersfield-open-2-in-april-results/
LOCATION:Huddersfield Table Tennis Centre\, 4th Floor of JL Brierley's Turnbridge Mills\, Quay Street\, Huddersfield\, Huddersfield\, west Yorkshire\, HD1 6QT\, United Kingdom
CATEGORIES:2 STAR,Cadet,Junior,Tournament,Under 11,Under 13
ATTACH;FMTTYPE=image/jpeg:https://huddersfieldttc.co.uk/wp-content/uploads/2023/12/PXL_20231214_202620234-scaled.jpg
ORGANIZER;CN="Frederic Le Doeuff":MAILTO:huddersfieldttcompetitions@gmail.com
END:VEVENT
BEGIN:VEVENT
DTSTART;TZID=Europe/London:20240303T090000
DTEND;TZID=Europe/London:20240303T170000
DTSTAMP:20260420T191618
CREATED:20240106T230055Z
LAST-MODIFIED:20240301T170014Z
UID:26920-1709456400-1709485200@huddersfieldttc.co.uk
SUMMARY:The Huddersfield Open 1* Senior in March is announced
DESCRIPTION:PROVISIONAL PLAYING SCHEDULE\nSeniors: 32 max entries \nPlayers will be ranked based on the latest computer ranking list\, no restriction on gender (separate gender groups will run if there are enough entries). Groups of 8 with a round robin per group. \nTo enter\, please download & complete the registration form. The entry pages must be emailed to huddersfieldttcompetitions@gmail.com before the closing date. \nThe closing date is the 23rd of February 2024 \nView the Table Tennis England website to download the entry form.
URL:https://huddersfieldttc.co.uk/event/huddersfield-open-1-star-in-march-is-announced/
LOCATION:Huddersfield Table Tennis Centre\, 4th Floor of JL Brierley's Turnbridge Mills\, Quay Street\, Huddersfield\, Huddersfield\, west Yorkshire\, HD1 6QT\, United Kingdom
CATEGORIES:1 STAR,Senior,Tournament
ATTACH;FMTTYPE=image/jpeg:https://huddersfieldttc.co.uk/wp-content/uploads/2023/12/PXL_20231214_202620234-scaled.jpg
ORGANIZER;CN="Frederic Le Doeuff":MAILTO:huddersfieldttcompetitions@gmail.com
END:VEVENT
BEGIN:VEVENT
DTSTART;TZID=Europe/London:20240211T090000
DTEND;TZID=Europe/London:20240211T170000
DTSTAMP:20260420T191618
CREATED:20241109T190023Z
LAST-MODIFIED:20241109T215806Z
UID:27633-1707642000-1707670800@huddersfieldttc.co.uk
SUMMARY:The November Huddersfield Open 1* Veterans results
DESCRIPTION:First and foremost\, we would like to thank everyone for participating in today’s table tennis competition. \nCongratulations to all the winners and a big round of applause to everyone who gave their best effort on the tables. \nIf you have any feedback or suggestions on how we can improve future competitions\, please do not hesitate to reach out. \nHere are the results: \nGroup 1 results \nGroup 2 results \nView the pictures of our winners \n 
URL:https://huddersfieldttc.co.uk/event/the-november-huddersfield-open-1-star-veterans-results/
LOCATION:Huddersfield Table Tennis Centre\, 4th Floor of JL Brierley's Turnbridge Mills\, Quay Street\, Huddersfield\, Huddersfield\, west Yorkshire\, HD1 6QT\, United Kingdom
CATEGORIES:Tournament,Veteran
ATTACH;FMTTYPE=image/jpeg:https://huddersfieldttc.co.uk/wp-content/uploads/2023/12/PXL_20231214_202620234-scaled.jpg
ORGANIZER;CN="Frederic Le Doeuff":MAILTO:huddersfieldttcompetitions@gmail.com
END:VEVENT
BEGIN:VEVENT
DTSTART;TZID=Europe/London:20240127T090000
DTEND;TZID=Europe/London:20240127T170000
DTSTAMP:20260420T191618
CREATED:20231220T140824Z
LAST-MODIFIED:20240301T170046Z
UID:26181-1706346000-1706374800@huddersfieldttc.co.uk
SUMMARY:The Huddersfield Open 1* Cadet/Junior in January is announced
DESCRIPTION:PROVISIONAL PLAYING SCHEDULE\nCadets: 16 max entries\nJuniors: 16 max entries \nPlayers will be ranked based on the latest computer ranking list\, no restriction on gender (separate gender groups will run if there are enough entries). Groups of 8 with a round robin per group. Groups will be mixed. \nTo enter\, please download & complete the registration form. The entry pages must be emailed to huddersfieldttcompetitions@gmail.com before the closing date. \nThe closing date is the 19th of January 2024 \nView the Table Tennis England website to download the entry form.
URL:https://huddersfieldttc.co.uk/event/huddersfield-open-1-star-in-january-is-announced/
LOCATION:Huddersfield Table Tennis Centre\, 4th Floor of JL Brierley's Turnbridge Mills\, Quay Street\, Huddersfield\, Huddersfield\, west Yorkshire\, HD1 6QT\, United Kingdom
CATEGORIES:1 STAR,Cadet,Junior,Tournament
ATTACH;FMTTYPE=image/jpeg:https://huddersfieldttc.co.uk/wp-content/uploads/2023/12/PXL_20231214_202620234-scaled.jpg
ORGANIZER;CN="Frederic Le Doeuff":MAILTO:huddersfieldttcompetitions@gmail.com
END:VEVENT
END:VCALENDAR